Workbook

Sheet Summary
A1: Total Boxes
A2: Box Types | G2: Total Count
A3: Separate Bonds (Liberty, Farmers, Petchili, Rail Road, etc) | G3: =SUM('Seperate Bonds'!L3:L502) -> 0 | H3: <===== | I3: Do NOT modify ANYTHING in BROWN
A4: American Dream Boxes | G4: =SUM('American Dream Box'!N3:N102) -> 0
A5: Golden Morgan Boxes | G5: =SUM('Golden Morgan'!J3:J102) -> 0
A6: Golden Trumpets | G6: =SUM('Golden Trumpet'!J3:J102) -> 0 | I6: Client Name:
A7: TOV Baby Boxes | G7: =SUM('TOV Box'!N3:N102) -> 0 | I7: Client Phone:
A8: TOV Mother Boxes | G8: =SUM('Mother Boxes'!O3:O200) -> 0 | I8: Client Skype:
A9: Liberty Boxes | G9: =SUM('Liberty Boxes'!K3:K102) -> 0 | I9: Client Email:
A10: Farmers Boxes | G10: 0
A11: Federal Reserve Boxes | G11: =SUM(FRB!I3:I102) -> 0 | I11: Mandate Name:
A12: Federal Reserve Notes | G12: =SUM(FRN!I3:I102) -> 0 | I12: Mandate Phone:
A13: Wells Fargo Boxes | G13: =SUM('Wells Fargo'!I3:I102) -> 0 | I13: Mandate Skype:
A14: American Hardware Boxes | G14: =SUM('American Hardware'!I3:I102) -> 0 | I14: Mandate Email:
A15: Kobe Boxes | G15: =SUM(Kobe!I3:I102) -> 0
A16: OTHER TYPES OF BOXES or ASSETS Black Eagles | G16: =SUM('OTHER ASSETS'!K3:K502) -> 2
A17: Black Eagle | H17: <===== | I17: You may hand type in other assets if needed here…
I18: (ONLY type in YELLOW cells)

Sheet Seperate Bonds
B1: Asset Information
A2: Item # | B2: Individual Bond Type | C2: Bond Year | D2: Face Value | E2: Serial Number | F2: PASSCO SCIPOPASS | G2: Gold Certificates | H2: Location of Boxes/Bonds | I2: Authentication | J2: Seller Name | K2: Seller's Preferred Closing Location
A3: 1 | L3: =IF(E3="",0,1) -> 0
A4: 2 | L4: =IF(E4="",0,1) -> 0
A5: 3 | L5: =IF(E5="",0,1) -> 0
A6: 4 | L6: =IF(E6="",0,1) -> 0
A7: 5 | L7: =IF(E7="",0,1) -> 0
A8: 6 | L8: =IF(E8="",0,1) -> 0
A9: 7 | L9: =IF(E9="",0,1) -> 0
A10: 8 | L10: =IF(E10="",0,1) -> 0
A11: 9 | L11: =IF(E11="",0,1) -> 0
A12: 10 | L12: =IF(E12="",0,1) -> 0
A13: 11 | L13: =IF(E13="",0,1) -> 0
A14: 12 | L14: =IF(E14="",0,1) -> 0
... A502: 500 | L502: =IF(E502="",0,1) -> 0

Sheet American Dream Box
B1: Asset Information
A2: Item # | B2: Box/Bond Type | C2: Series | D2: Bond Value | E2: Face Value | F2: Box Number | G2: Secret Code | H2: P.D. Number | I2: Gold Certificate | J2: Location of Boxes/Bonds | K2: Authentication | L2: Seller Name | M2: Seller's Preferred Closing Location
A3: 1 | N3: =IF(F3="",0,1) -> 0
A4: 2 | N4: =IF(F4="",0,1) -> 0
A5: 3 | N5: =IF(F5="",0,1) -> 0
A6: 4 | N6: =IF(F6="",0,1) -> 0
A7: 5 | N7: =IF(F7="",0,1) -> 0
A8: 6 | N8: =IF(F8="",0,1) -> 0
A9: 7 | N9: =IF(F9="",0,1) -> 0
A10: 8 | N10: =IF(F10="",0,1) -> 0
A11: 9 | N11: =IF(F11="",0,1) -> 0
A12: 10 | N12: =IF(F12="",0,1) -> 0
A13: 11 | N13: =IF(F13="",0,1) -> 0
A14: 12 | N14: =IF(F14="",0,1) -> 0
... A102: 100 | N102: =IF(F102="",0,1) -> 0

Sheet Golden Morgan
A2: Item # | B2: Box Number | C2: SJ Number | D2: Serial Number | E2: Lock Code | F2: Location of Boxes/Bonds | G2: Authentication | H2: Seller Name | I2: Seller's Preferred Closing Location
A3: 1 | J3: =IF(B3="",0,1) -> 0
A4: 2 | J4: =IF(B4="",0,1) -> 0
A5: 3 | J5: =IF(B5="",0,1) -> 0
A6: 4 | J6: =IF(B6="",0,1) -> 0
A7: 5 | J7: =IF(B7="",0,1) -> 0
A8: 6 | J8: =IF(B8="",0,1) -> 0
A9: 7 | J9: =IF(B9="",0,1) -> 0
A10: 8 | J10: =IF(B10="",0,1) -> 0
A11: 9 | J11: =IF(B11="",0,1) -> 0
A12: 10 | J12: =IF(B12="",0,1) -> 0
A13: 11 | J13: =IF(B13="",0,1) -> 0
A14: 12 | J14: =IF(B14="",0,1) -> 0
... A102: 100 | J102: =IF(B102="",0,1) -> 0
B173: 00739140 | C173: 2880-01 | D173: J00738891A | E173: 00-10 | F173: Taiwan | H173: CHENTAI-KUANG | I173: Taiwan
B174: 00739300 | C174: 2882-02 | D174: J00739141A | E174: 10-20 | F174: Taiwan | H174: CHENTAI-KUANG | I174: Taiwan
B175: 00739840 | C175: 2882-03 | D175: J00739391A | E175: 20-30 | F175: Taiwan | H175: CHENTAI-KUANG | I175: Taiwan
B176: 00739890 | C176: 2882-04 | D176: J0073964-A | E176: 30-40 | F176: Taiwan | H176: CHENTAI-KUANG | I176: Taiwan
B177: 00740140 | C177: 2882-05 | D177: J00739891A | E177: 40-50 | F177: Taiwan | H177: CHENTAI-KUANG | I177: Taiwan
B178: 00740390 | C178: 2882-06 | D178: J00740141A | E178: 50-60 | F178: Taiwan | H178: CHENTAI-KUANG | I178: Taiwan
B179: 00740640 | C179: 2882-07 | D179: J00740391A | E179: 60-70 | F179: Taiwan | H179: CHENTAI-KUANG | I179: Taiwan
B180: 00740890 | C180: 2882-08 | D180: J00740641A | E180: 70-80 | F180: Taiwan | H180: CHENTAI-KUANG | I180: Taiwan
B181: 00741140 | C181: 2882-09 | D181: J00740891A | E181: 80-90 | F181: Taiwan | H181: CHENTAI-KUANG | I181: Taiwan
B182: 00141390 | C182: 2882-10 | D182: J00741141A | E182: 90-100 | F182: Taiwan | H182: CHENTAI-KUANG | I182: Taiwan
B183: 00741640 | C183: 2882-11 | D183: J00741391A | E183: 100-110 | F183: Taiwan | H183: CHENTAI-KUANG | I183: Taiwan
B184: 00741890 | C184: 2882-12 | D184: J00741641A | E184: 110-120 | F184: Taiwan | H184: CHENTAI-KUANG | I184: Taiwan
... B239: 00755890 | C239: 2882-67 | D239: J00755641A | E239: 660-670 | F239: Taiwan | H239: CHENTAI-KUANG | I239: Taiwan
B240: 00756410 | C240: 2882-68 | D240: J00755891A | E240: 670-680
B241: 00756390 | C241: 2882-69 | D241: J00756141A | E241: 680-690
B242: 00756640 | C242: 2882-70 | D242: J00756391A | E242: 690-700
B243: 00756890 | C243: 2882-71 | D243: J00756641A | E243: 700-710
B244: 00757140 | C244: 2882-72 | D244: J00756891A | E244: 710-720
B245: 00757390 | C245: 2882-73 | D245: J00757141A | E245: 720-730
B246: 00749890 | C246: 2882-74 | D246: J00757091A | E246: 730-740
B247: 00757890 | C247: 2882-75 | D247: J00757641A | E247: 740-750
B248: 00758140 | C248: 2882-76 | D248: J0075891A | E248: 750-760
B249: 00758390 | C249: 2882-77 | D249: J00758141A | E249: 760-770
B250: 00758640 | C250: 2882-78 | D250: J00758391A | E250: 770-780
B251: 00758890 | C251: 2882-79 | D251: J00758641A | E251: 780-790
... B290: 00768640 | C290: 2882-118 | D290: J00768391A | E290: 1170-1180
C291: 2882-119
C292: 2882-120
C293: 2882-121

Sheet Golden Trumpet
A2: Item # | B2: Box Number | C2: SJ Number | D2: Serial Number | E2: Lock Code | F2: Location of Boxes/Bonds | G2: Authentication | H2: Seller Name | I2: Seller's Preferred Closing Location
A3: 1 | J3: =IF(B3="",0,1) -> 0
A4: 2 | J4: =IF(B4="",0,1) -> 0
A5: 3 | J5: =IF(B5="",0,1) -> 0
A6: 4 | J6: =IF(B6="",0,1) -> 0
A7: 5 | J7: =IF(B7="",0,1) -> 0
A8: 6 | J8: =IF(B8="",0,1) -> 0
A9: 7 | J9: =IF(B9="",0,1) -> 0
A10: 8 | J10: =IF(B10="",0,1) -> 0
A11: 9 | J11: =IF(B11="",0,1) -> 0
A12: 10 | J12: =IF(B12="",0,1) -> 0
A13: 11 | J13: =IF(B13="",0,1) -> 0
A14: 12 | J14: =IF(B14="",0,1) -> 0
... A102: 100 | J102: =IF(B102="",0,1) -> 0

Sheet TOV Box
B1: Asset Information
A2: Item # | B2: Box/Bond Type | C2: Bond Value | D2: Face Value | E2: Series Number | F2: Serial Number | G2: Box Number | H2: Security Code | I2: P. D. Number | J2: Location of Boxes/Bonds | K2: Authentication | L2: Seller Name | M2: Seller's Preferred Closing Location
A3: 1 | N3: =IF(F3="",0,1) -> 0
A4: 2 | N4: =IF(F4="",0,1) -> 0
A5: 3 | N5: =IF(F5="",0,1) -> 0
A6: 4 | N6: =IF(F6="",0,1) -> 0
A7: 5 | N7: =IF(F7="",0,1) -> 0
A8: 6 | N8: =IF(F8="",0,1) -> 0
A9: 7 | N9: =IF(F9="",0,1) -> 0
A10: 8 | N10: =IF(F10="",0,1) -> 0
A11: 9 | N11: =IF(F11="",0,1) -> 0
A12: 10 | N12: =IF(F12="",0,1) -> 0
A13: 11 | N13: =IF(F13="",0,1) -> 0
A14: 12 | N14: =IF(F14="",0,1) -> 0
... A102: 100 | N102: =IF(F102="",0,1) -> 0

Sheet Mother Boxes
B1: Asset Information
A2: Item # | B2: Box/Bond Type | C2: Face Value | D2: Number of Mini boxes | E2: Master Control Box Number | F2: Serial Number | G2: SC Number | H2: Key Number | I2: Book of Redemption | J2: P.D. Number | K2: Location of Boxes/Bonds | L2: Authentication | M2: Seller Name | N2: Seller's Preferred Closing Location
A3: 1 | O3: =IF(F3="",0,1) -> 0
A4: 2 | O4: =IF(F4="",0,1) -> 0
A5: 3 | O5: =IF(F5="",0,1) -> 0
A6: 4 | O6: =IF(F6="",0,1) -> 0
A7: 5 | O7: =IF(F7="",0,1) -> 0
A8: 6 | O8: =IF(F8="",0,1) -> 0
A9: 7 | O9: =IF(F9="",0,1) -> 0
A10: 8 | O10: =IF(F10="",0,1) -> 0
A11: 9 | O11: =IF(F11="",0,1) -> 0
A12: 10 | O12: =IF(F12="",0,1) -> 0
A13: 11 | O13: =IF(F13="",0,1) -> 0
A14: 12 | O14: =IF(F14="",0,1) -> 0
... A200: 198 | O200: =IF(F200="",0,1) -> 0

Sheet Liberty Boxes
B1: Asset Information
A2: Item # | B2: Box/Bond Type | C2: Face Value | D2: Serial Number | E2: PASSCO SCIPOPASS | F2: Gold Certificates | G2: Location of Boxes/Bonds | H2: Authentication | I2: Seller Name | J2: Seller's Preferred Closing Location
A3: 1 | K3: =IF(D3="",0,1) -> 0
A4: 2 | K4: =IF(D4="",0,1) -> 0
A5: 3 | K5: =IF(D5="",0,1) -> 0
A6: 4 | K6: =IF(D6="",0,1) -> 0
A7: 5 | K7: =IF(D7="",0,1) -> 0
A8: 6 | K8: =IF(D8="",0,1) -> 0
A9: 7 | K9: =IF(D9="",0,1) -> 0
A10: 8 | K10: =IF(D10="",0,1) -> 0
A11: 9 | K11: =IF(D11="",0,1) -> 0
A12: 10 | K12: =IF(D12="",0,1) -> 0
A13: 11 | K13: =IF(D13="",0,1) -> 0
A14: 12 | K14: =IF(D14="",0,1) -> 0
... A102: 100 | K102: =IF(D102="",0,1) -> 0

Sheet Farmers Boxes
B1: Asset Information
A2: Item # | B2: Box/Bond Type | C2: Face Value | D2: Serial Number | E2: PASSCO SCIPOPASS | F2: Location of Boxes/Bonds | G2: Authentication | H2: Seller Name | I2: Seller's Preferred Closing Location
A3: 1 | J3: =IF(D3="",0,1) -> 0
A4: 2 | J4: =IF(D4="",0,1) -> 0
A5: 3 | J5: =IF(D5="",0,1) -> 0
A6: 4 | J6: =IF(D6="",0,1) -> 0
A7: 5 | J7: =IF(D7="",0,1) -> 0
A8: 6 | J8: =IF(D8="",0,1) -> 0
A9: 7 | J9: =IF(D9="",0,1) -> 0
A10: 8 | J10: =IF(D10="",0,1) -> 0
A11: 9 | J11: =IF(D11="",0,1) -> 0
A12: 10 | J12: =IF(D12="",0,1) -> 0
A13: 11 | J13: =IF(D13="",0,1) -> 0
A14: 12 | J14: =IF(D14="",0,1) -> 0
... A102: 98 | J102: =IF(D102="",0,1) -> 0

Sheet FRB
B1: Asset Information
A2: Item # | B2: Box Type | C2: Face Value | D2: Serial Number | E2: Location of Boxes/Bonds | F2: Authentication | G2: Seller Name | H2: Seller's Preferred Closing Location
A3: 1 | I3: =IF(D3="",0,1) -> 0
A4: 2 | I4: =IF(D4="",0,1) -> 0
A5: 3 | I5: =IF(D5="",0,1) -> 0
A6: 4 | I6: =IF(D6="",0,1) -> 0
A7: 5 | I7: =IF(D7="",0,1) -> 0
A8: 6 | I8: =IF(D8="",0,1) -> 0
A9: 7 | I9: =IF(D9="",0,1) -> 0
A10: 8 | I10: =IF(D10="",0,1) -> 0
A11: 9 | I11: =IF(D11="",0,1) -> 0
A12: 10 | I12: =IF(D12="",0,1) -> 0
A13: 11 | I13: =IF(D13="",0,1) -> 0
A14: 12 | I14: =IF(D14="",0,1) -> 0
... A102: 98 | I102: =IF(D102="",0,1) -> 0

Sheet FRN
B1: Asset Information
A2: Item # | B2: Box Type | C2: Face Value | D2: Serial Number | E2: Location of Boxes/Bonds | F2: Authentication | G2: Seller Name | H2: Seller's Preferred Closing Location
A3: 1 | I3: =IF(D3="",0,1) -> 0
A4: 2 | I4: =IF(D4="",0,1) -> 0
A5: 3 | I5: =IF(D5="",0,1) -> 0
A6: 4 | I6: =IF(D6="",0,1) -> 0
A7: 5 | I7: =IF(D7="",0,1) -> 0
A8: 6 | I8: =IF(D8="",0,1) -> 0
A9: 7 | I9: =IF(D9="",0,1) -> 0
A10: 8 | I10: =IF(D10="",0,1) -> 0
A11: 9 | I11: =IF(D11="",0,1) -> 0
A12: 10 | I12: =IF(D12="",0,1) -> 0
A13: 11 | I13: =IF(D13="",0,1) -> 0
A14: 12 | I14: =IF(D14="",0,1) -> 0
... A102: 98 | I102: =IF(D102="",0,1) -> 0

Sheet Kobe
B1: Asset Information
A2: Item # | B2: Box Type | C2: Face Value | D2: Serial Number | E2: Location of Boxes/Bonds | F2: Authentication | G2: Seller Name | H2: Seller's Preferred Closing Location
A3: 1 | I3: =IF(D3="",0,1) -> 0
A4: 2 | I4: =IF(D4="",0,1) -> 0
A5: 3 | I5: =IF(D5="",0,1) -> 0
A6: 4 | I6: =IF(D6="",0,1) -> 0
A7: 5 | I7: =IF(D7="",0,1) -> 0
A8: 6 | I8: =IF(D8="",0,1) -> 0
A9: 7 | I9: =IF(D9="",0,1) -> 0
A10: 8 | I10: =IF(D10="",0,1) -> 0
A11: 9 | I11: =IF(D11="",0,1) -> 0
A12: 10 | I12: =IF(D12="",0,1) -> 0
A13: 11 | I13: =IF(D13="",0,1) -> 0
A14: 12 | I14: =IF(D14="",0,1) -> 0
... A102: 98 | I102: =IF(D102="",0,1) -> 0

Sheet Wells Fargo
B1: Asset Information
A2: Item # | B2: Box Type | C2: Face Value | D2: Serial Number | E2: Location of Boxes/Bonds | F2: Authentication | G2: Seller Name | H2: Seller's Preferred Closing Location
A3: 1 | I3: =IF(D3="",0,1) -> 0
A4: 2 | I4: =IF(D4="",0,1) -> 0
A5: 3 | I5: =IF(D5="",0,1) -> 0
A6: 4 | I6: =IF(D6="",0,1) -> 0
A7: 5 | I7: =IF(D7="",0,1) -> 0
A8: 6 | I8: =IF(D8="",0,1) -> 0
A9: 7 | I9: =IF(D9="",0,1) -> 0
A10: 8 | I10: =IF(D10="",0,1) -> 0
A11: 9 | I11: =IF(D11="",0,1) -> 0
A12: 10 | I12: =IF(D12="",0,1) -> 0
A13: 11 | I13: =IF(D13="",0,1) -> 0
A14: 12 | I14: =IF(D14="",0,1) -> 0
... A102: 98 | I102: =IF(D102="",0,1) -> 0

Sheet American Hardware
B1: Asset Information
A2: Item # | B2: Box Type | C2: Face Value | D2: Serial Number | E2: Location of Boxes/Bonds | F2: Authentication | G2: Seller Name | H2: Seller's Preferred Closing Location
A3: 1 | I3: =IF(D3="",0,1) -> 0
A4: 2 | I4: =IF(D4="",0,1) -> 0
A5: 3 | I5: =IF(D5="",0,1) -> 0
A6: 4 | I6: =IF(D6="",0,1) -> 0
A7: 5 | I7: =IF(D7="",0,1) -> 0
A8: 6 | I8: =IF(D8="",0,1) -> 0
A9: 7 | I9: =IF(D9="",0,1) -> 0
A10: 8 | I10: =IF(D10="",0,1) -> 0
A11: 9 | I11: =IF(D11="",0,1) -> 0
A12: 10 | I12: =IF(D12="",0,1) -> 0
A13: 11 | I13: =IF(D13="",0,1) -> 0
A14: 12 | I14: =IF(D14="",0,1) -> 0
... A102: 98 | I102: =IF(D102="",0,1) -> 0

Sheet OTHER ASSETS
B1: Asset Information
A2: Item # | B2: Describe Asset Type | C2: Year | D2: Value | E2: Serial Number | F2: Gold Backed ??? | G2: Location of Boxes/Bonds | H2: Authentication | I2: Seller Name | J2: Seller's Preferred Closing Location
A3: 1 | B3: CORONA EMPEROR (1)BOX | C3: 1941 | F3: Yes | G3: PHILIPPINES | I3: CARLO YONSON MACAPAGAL | K3: =IF(B3="",0,1) -> 1
A4: 2 | B4: GOLDEN GUN - (1) BOX | C4: 1912 | E4: fac 00137-13581 | F4: Yes | G4: PHILIPPINES | I4: CARLO YONSON MACAPAGAL | K4: =IF(B4="",0,1) -> 1
A5: 3 | K5: =IF(B5="",0,1) -> 0
A6: 4 | K6: =IF(B6="",0,1) -> 0
A7: 5 | K7: =IF(B7="",0,1) -> 0
A8: 6 | K8: =IF(B8="",0,1) -> 0
A9: 7 | K9: =IF(B9="",0,1) -> 0
A10: 8 | K10: =IF(B10="",0,1) -> 0
A11: 9 | K11: =IF(B11="",0,1) -> 0
A12: 10 | K12: =IF(B12="",0,1) -> 0
A13: 11 | K13: =IF(B13="",0,1) -> 0
A14: 12 | K14: =IF(B14="",0,1) -> 0
A15: 13 | K15: =IF(B15="",0,1) -> 0
A16: 14 | K16: =IF(B16="",0,1) -> 0
... A502: 500 | K502: =IF(B502="",0,1) -> 0
